BEGIN:VCALENDAR
VERSION:2.0
PRODID:-//wp-events-plugin.com//7.2.3.1//EN
TZID:Europe/Warsaw
X-WR-TIMEZONE:Europe/Warsaw
BEGIN:VEVENT
UID:56@wydra.pl
DTSTART;TZID=Europe/Warsaw:20220415T200000
DTEND;TZID=Europe/Warsaw:20220415T210000
DTSTAMP:20220414T163449Z
URL:https://www.wydra.pl/wydarzenia/pasja-2022-ecce-homo-oto-czlowiek/
SUMMARY:"Pasja 2022 Ecce Homo - Oto człowiek"
DESCRIPTION:Chełm\, godzina 20:00 na Placu Doktora Edwarda Łuczkowskiego\
 , transmisja TVP2
CATEGORIES:Koncerty plenerowe
LOCATION:Plac Doktora Edwarda Łuczkowskiego\, Plac Doktora Edwarda Łuczko
 wskiego\, Chełm\, Poland
X-APPLE-STRUCTURED-LOCATION;VALUE=URI;X-ADDRESS=Plac Doktora Edwarda Łuczk
 owskiego\, Chełm\, Poland;X-APPLE-RADIUS=100;X-TITLE=Plac Doktora Edwarda
  Łuczkowskiego:geo:0,0
END:VEVENT
BEGIN:VTIMEZONE
TZID:Europe/Warsaw
X-LIC-LOCATION:Europe/Warsaw
BEGIN:DAYLIGHT
DTSTART:20220327T030000
TZOFFSETFROM:+0100
TZOFFSETTO:+0200
TZNAME:CEST
END:DAYLIGHT
END:VTIMEZONE
END:VCALENDAR